BEGIN:VCALENDAR
VERSION:2.0
PRODID:-//wp-events-plugin.com//7.2.3.1//EN
TZID:America/New_York
X-WR-TIMEZONE:America/New_York
BEGIN:VEVENT
UID:63@cndf.qc.ca
DTSTART;TZID=America/New_York:20020313T083000
DTEND;TZID=America/New_York:20020313T083000
DTSTAMP:20220120T225534Z
URL:https://www.cndf.qc.ca/events/auditions-dentree-aux-dec-en-musique-dec
 embre-2021/
SUMMARY:Auditions d'entrée aux DEC en musique
DESCRIPTION:Auditions d'entrée aux DEC en musique pour le trimestre d'auto
 mne 2022 sous la direction d'Alain Châteauvert.\n\n&nbsp\;\n\nSi vous son
 gez participer aux auditions\, nous vous invitons à consulter les informa
 tions concernant le programme de Musique\, de même que le cahier des exig
 ences d'entrée au programme de Musique.
ATTACH;FMTTYPE=image/jpeg:https://www.cndf.qc.ca/wp-content/uploads/2021/1
 1/calendrier_spectacles_musique.jpg
CATEGORIES:Musique,Spectacles
LOCATION:Salle de concert La Chapelle du pavillon De-La-Salle\, 5010\, rue 
 Clément-Lockquell\, Saint-Augustin-de-Desmaures\, Québec\, G3A 1B3\, Qu
 ébec\, Canada
X-APPLE-STRUCTURED-LOCATION;VALUE=URI;X-ADDRESS=5010\, rue Clément-Lockque
 ll\, Saint-Augustin-de-Desmaures\, Québec\, G3A 1B3\, Québec\, Canada;X-
 APPLE-RADIUS=100;X-TITLE=Salle de concert La Chapelle du pavillon De-La-Sa
 lle:geo:0,0
END:VEVENT
BEGIN:VTIMEZONE
TZID:America/New_York
X-LIC-LOCATION:America/New_York
BEGIN:STANDARD
DTSTART:20011028T010000
TZOFFSETFROM:-0400
TZOFFSETTO:-0500
TZNAME:EST
END:STANDARD
END:VTIMEZONE
END:VCALENDAR