BEGIN:VCALENDAR
VERSION:2.0
PRODID:-//wp-events-plugin.com//7.2.3.1//EN
TZID:America/New_York
X-WR-TIMEZONE:America/New_York
BEGIN:VEVENT
UID:60@cndf.qc.ca
DTSTART;TZID=America/New_York:20211217T083000
DTEND;TZID=America/New_York:20211217T083000
DTSTAMP:20220119T212647Z
URL:https://www.cndf.qc.ca/events/auditions-dentree-decembre-2021/
SUMMARY:Auditions d'entrée
DESCRIPTION:Auditions d'entrée aux DEC en musique pour le trimestre d'hive
 r 2022 sous la direction d'Alain Châteauvert.
ATTACH;FMTTYPE=image/jpeg:https://www.cndf.qc.ca/wp-content/uploads/2021/1
 1/calendrier_spectacles_musique.jpg
CATEGORIES:Musique,Spectacles
END:VEVENT
BEGIN:VTIMEZONE
TZID:America/New_York
X-LIC-LOCATION:America/New_York
BEGIN:STANDARD
DTSTART:20211107T010000
TZOFFSETFROM:-0400
TZOFFSETTO:-0500
TZNAME:EST
END:STANDARD
END:VTIMEZONE
END:VCALENDAR