BEGIN:VCALENDAR
VERSION:2.0
PRODID:-//wp-events-plugin.com//7.2.3.1//EN
TZID:America/New_York
X-WR-TIMEZONE:America/New_York
BEGIN:VEVENT
UID:332@cndf.qc.ca
DTSTART;TZID=America/Toronto;VALUE=DATE:20250322
DTEND;TZID=America/Toronto;VALUE=DATE:20250324
DTSTAMP:20240923T162051Z
URL:https://www.cndf.qc.ca/events/basketball-championnat-regional-basketba
 ll-masculin-mars-2025/
SUMMARY:Championnat régional basketball masculin
DESCRIPTION:Championnat régional de basketball féminin du RSEQ.\n\n&nbsp\
 ;
ATTACH;FMTTYPE=image/jpeg:https://www.cndf.qc.ca/wp-content/uploads/2021/1
 0/calendrier_basketball_masculin.jpg
CATEGORIES:Basketball masculin
END:VEVENT
BEGIN:VTIMEZONE
TZID:America/Toronto
X-LIC-LOCATION:America/Toronto
BEGIN:DAYLIGHT
DTSTART:20250309T030000
TZOFFSETFROM:-0500
TZOFFSETTO:-0400
TZNAME:EDT
END:DAYLIGHT
END:VTIMEZONE
END:VCALENDAR