BEGIN:VCALENDAR
VERSION:2.0
PRODID:-//wp-events-plugin.com//7.2.3.1//EN
TZID:America/New_York
X-WR-TIMEZONE:America/New_York
BEGIN:VEVENT
UID:124@cndf.qc.ca
DTSTART;TZID=America/New_York:20221106T110000
DTEND;TZID=America/New_York:20221106T120000
DTSTAMP:20221004T195516Z
URL:https://www.cndf.qc.ca/events/basketball-feminin-2
SUMMARY:Basketball Féminin
DESCRIPTION:
ATTACH;FMTTYPE=image/jpeg:https://www.cndf.qc.ca/wp-content/uploads/2022/1
 0/basket_feminin_masculin.jpg
CATEGORIES:Basketball féminin,Sports
LOCATION:Cégep de Chicoutimi\, 34 Rue Jacques-Cartier E\, chicoutimi\, Qu
 ébec\, G7H 1Z6\, Canada
X-APPLE-STRUCTURED-LOCATION;VALUE=URI;X-ADDRESS=34 Rue Jacques-Cartier E\, 
 chicoutimi\, Québec\, G7H 1Z6\, Canada;X-APPLE-RADIUS=100;X-TITLE=Cégep 
 de Chicoutimi:geo:0,0
END:VEVENT
BEGIN:VTIMEZONE
TZID:America/New_York
X-LIC-LOCATION:America/New_York
BEGIN:STANDARD
DTSTART:20221106T010000
TZOFFSETFROM:-0400
TZOFFSETTO:-0500
TZNAME:EST
END:STANDARD
END:VTIMEZONE
END:VCALENDAR