BEGIN:VCALENDAR
VERSION:2.0
PRODID:-//wp-events-plugin.com//7.2.3.1//EN
TZID:America/New_York
X-WR-TIMEZONE:America/New_York
BEGIN:VEVENT
UID:125@cndf.qc.ca
DTSTART;TZID=America/New_York:20221106T160000
DTEND;TZID=America/New_York:20221106T170000
DTSTAMP:20221004T200738Z
URL:https://www.cndf.qc.ca/events/basketball-feminin-4/
SUMMARY:Basketball Féminin
DESCRIPTION:
ATTACH;FMTTYPE=image/jpeg:https://www.cndf.qc.ca/wp-content/uploads/2022/1
 0/basket_feminin_masculin.jpg
CATEGORIES:Basketball féminin,Sports
LOCATION:Cégep de Jonquière\, 2505 Rue Saint-Hubert\, Jonquière\, Québe
 c\, G7X 7W2\, Canada
X-APPLE-STRUCTURED-LOCATION;VALUE=URI;X-ADDRESS=2505 Rue Saint-Hubert\, Jon
 quière\, Québec\, G7X 7W2\, Canada;X-APPLE-RADIUS=100;X-TITLE=Cégep de 
 Jonquière:geo:0,0
END:VEVENT
BEGIN:VTIMEZONE
TZID:America/New_York
X-LIC-LOCATION:America/New_York
BEGIN:STANDARD
DTSTART:20221106T010000
TZOFFSETFROM:-0400
TZOFFSETTO:-0500
TZNAME:EST
END:STANDARD
END:VTIMEZONE
END:VCALENDAR