BEGIN:VCALENDAR
VERSION:2.0
PRODID:-//wp-events-plugin.com//7.2.3.1//EN
TZID:America/New_York
X-WR-TIMEZONE:America/New_York
BEGIN:VEVENT
UID:130@cndf.qc.ca
DTSTART;TZID=America/New_York:20230218T130000
DTEND;TZID=America/New_York:20230218T130000
DTSTAMP:20230116T142254Z
URL:https://www.cndf.qc.ca/events/basketball-feminin-f36-saison2022-2023
SUMMARY:Notre-Dame vs Lévis
DESCRIPTION:Neuvième match de la saison de l'équipe féminine de basketba
 ll du CNDF dans la ligue RSEQ.
ATTACH;FMTTYPE=image/jpeg:https://www.cndf.qc.ca/wp-content/uploads/2022/1
 0/basket_feminin_masculin.jpg
CATEGORIES:Basketball féminin,Sports
LOCATION:Cégep de Lévis\, 205\, route Monseigneur-Bourget\, Lévis\, Qué
 bec\, G6V 6Z9\, Canada
X-APPLE-STRUCTURED-LOCATION;VALUE=URI;X-ADDRESS=205\, route Monseigneur-Bou
 rget\, Lévis\, Québec\, G6V 6Z9\, Canada;X-APPLE-RADIUS=100;X-TITLE=Cég
 ep de Lévis:geo:0,0
END:VEVENT
BEGIN:VTIMEZONE
TZID:America/New_York
X-LIC-LOCATION:America/New_York
BEGIN:STANDARD
DTSTART:20221106T010000
TZOFFSETFROM:-0400
TZOFFSETTO:-0500
TZNAME:EST
END:STANDARD
END:VTIMEZONE
END:VCALENDAR