BEGIN:VCALENDAR
VERSION:2.0
PRODID:-//wp-events-plugin.com//7.2.3.1//EN
TZID:America/New_York
X-WR-TIMEZONE:America/New_York
BEGIN:VEVENT
UID:139@cndf.qc.ca
DTSTART;TZID=America/New_York:20230204T140000
DTEND;TZID=America/New_York:20230204T140000
DTSTAMP:20230202T143031Z
URL:https://www.cndf.qc.ca/events/basketball-masculin-m132-saison2022-2023
SUMMARY:Annulé : Notre-Dame vs Matane
DESCRIPTION:Le huitième match de la saison de l'équipe masculine de baske
 tball du CNDF dans la ligue RSEQ sera repris le samedi 25 février à 14h.
ATTACH;FMTTYPE=image/jpeg:https://www.cndf.qc.ca/wp-content/uploads/2021/1
 0/calendrier_basketball_masculin.jpg
CATEGORIES:Basketball masculin,Sports
LOCATION:Cégep de Matane\, 616 Avenue St Rédempteur\, Matane\, Québec\, 
 G4W 1L1\, Canada
X-APPLE-STRUCTURED-LOCATION;VALUE=URI;X-ADDRESS=616 Avenue St Rédempteur\,
  Matane\, Québec\, G4W 1L1\, Canada;X-APPLE-RADIUS=100;X-TITLE=Cégep de 
 Matane:geo:0,0
END:VEVENT
BEGIN:VTIMEZONE
TZID:America/New_York
X-LIC-LOCATION:America/New_York
BEGIN:STANDARD
DTSTART:20221106T010000
TZOFFSETFROM:-0400
TZOFFSETTO:-0500
TZNAME:EST
END:STANDARD
END:VTIMEZONE
END:VCALENDAR