BEGIN:VCALENDAR
VERSION:2.0
PRODID:-//wp-events-plugin.com//7.2.3.1//EN
TZID:America/New_York
X-WR-TIMEZONE:America/New_York
BEGIN:VEVENT
UID:140@cndf.qc.ca
DTSTART;TZID=America/New_York:20230208T200000
DTEND;TZID=America/New_York:20230208T200000
DTSTAMP:20230116T141559Z
URL:https://www.cndf.qc.ca/events/basketball-masculin-m136-saison2022-2023
SUMMARY:Notre-Dame vs Mérici
DESCRIPTION:Neuvième match de la saison de l'équipe masculine de basketba
 ll du CNDF dans la ligue RSEQ.
ATTACH;FMTTYPE=image/jpeg:https://www.cndf.qc.ca/wp-content/uploads/2021/1
 0/calendrier_basketball_masculin.jpg
CATEGORIES:Basketball masculin,Sports
LOCATION:Collège Mérici\, 755 Grande Allée O\, Québec\, Québec\, G1S 1
 C1\, Canada
X-APPLE-STRUCTURED-LOCATION;VALUE=URI;X-ADDRESS=755 Grande Allée O\, Québ
 ec\, Québec\, G1S 1C1\, Canada;X-APPLE-RADIUS=100;X-TITLE=Collège Méric
 i:geo:0,0
END:VEVENT
BEGIN:VTIMEZONE
TZID:America/New_York
X-LIC-LOCATION:America/New_York
BEGIN:STANDARD
DTSTART:20221106T010000
TZOFFSETFROM:-0400
TZOFFSETTO:-0500
TZNAME:EST
END:STANDARD
END:VTIMEZONE
END:VCALENDAR