BEGIN:VCALENDAR
VERSION:2.0
PRODID:-//wp-events-plugin.com//7.2.3.1//EN
TZID:America/New_York
X-WR-TIMEZONE:America/New_York
BEGIN:VEVENT
UID:143@cndf.qc.ca
DTSTART;TZID=America/New_York:20230304T130000
DTEND;TZID=America/New_York:20230304T130000
DTSTAMP:20230116T141159Z
URL:https://www.cndf.qc.ca/events/basketball-masculin-m153-saison2022-2023
SUMMARY:Rivière-du-Loup vs Notre-Dame
DESCRIPTION:Dixième match de la saison de l'équipe masculine de basketbal
 l du CNDF dans la ligue RSEQ.
ATTACH;FMTTYPE=image/jpeg:https://www.cndf.qc.ca/wp-content/uploads/2021/1
 0/calendrier_basketball_masculin.jpg
CATEGORIES:Basketball masculin,Sports
LOCATION:Cégep de Rivière-du-Loup\, 80\, rue Frontenac \, Rivière-du-Lou
 p\, Québec\, G5R 1R1\, Canada
X-APPLE-STRUCTURED-LOCATION;VALUE=URI;X-ADDRESS=80\, rue Frontenac \, Rivi
 ère-du-Loup\, Québec\, G5R 1R1\, Canada;X-APPLE-RADIUS=100;X-TITLE=Cége
 p de Rivière-du-Loup:geo:0,0
END:VEVENT
BEGIN:VTIMEZONE
TZID:America/New_York
X-LIC-LOCATION:America/New_York
BEGIN:STANDARD
DTSTART:20221106T010000
TZOFFSETFROM:-0400
TZOFFSETTO:-0500
TZNAME:EST
END:STANDARD
END:VTIMEZONE
END:VCALENDAR