BEGIN:VCALENDAR
VERSION:2.0
PRODID:-//wp-events-plugin.com//7.2.3.1//EN
TZID:America/New_York
X-WR-TIMEZONE:America/New_York
BEGIN:VEVENT
UID:27@cndf.qc.ca
DTSTART;TZID=America/Toronto:20211120T160000
DTEND;TZID=America/Toronto:20211120T160000
DTSTAMP:20211004T203216Z
URL:https://www.cndf.qc.ca/events/basketball-masculin-match3-saison2021-20
 22/
SUMMARY:Notre-Dame vs Beauce-Appalaches
DESCRIPTION:Troisième match de la saison.
ATTACH;FMTTYPE=image/jpeg:https://www.cndf.qc.ca/wp-content/uploads/2021/1
 0/calendrier_basketball_masculin.jpg
CATEGORIES:Basketball masculin
LOCATION:Cégep Beauce-Appalaches\, 11625\, 10e avenue\, Saint-Georges\, Qu
 ébec\, G5Y 1B9\, Québec\, Canada
X-APPLE-STRUCTURED-LOCATION;VALUE=URI;X-ADDRESS=11625\, 10e avenue\, Saint-
 Georges\, Québec\, G5Y 1B9\, Québec\, Canada;X-APPLE-RADIUS=100;X-TITLE=
 Cégep Beauce-Appalaches:geo:0,0
END:VEVENT
BEGIN:VTIMEZONE
TZID:America/Toronto
X-LIC-LOCATION:America/Toronto
BEGIN:STANDARD
DTSTART:20211107T010000
TZOFFSETFROM:-0400
TZOFFSETTO:-0500
TZNAME:EST
END:STANDARD
END:VTIMEZONE
END:VCALENDAR