BEGIN:VCALENDAR
VERSION:2.0
PRODID:-//wp-events-plugin.com//7.2.3.1//EN
TZID:America/New_York
X-WR-TIMEZONE:America/New_York
BEGIN:VEVENT
UID:30@cndf.qc.ca
DTSTART;TZID=America/Toronto:20211211T170000
DTEND;TZID=America/Toronto:20211211T170000
DTSTAMP:20211004T204535Z
URL:https://www.cndf.qc.ca/events/basketball-masculin-match6-saison2021-20
 22/
SUMMARY:Notre-Dame vs Sainte-Foy
DESCRIPTION:Sixième match de la saison de basketball masculine (RSEQ) pour
  le Notre-Dame.
ATTACH;FMTTYPE=image/jpeg:https://www.cndf.qc.ca/wp-content/uploads/2021/1
 0/calendrier_basketball_masculin.jpg
CATEGORIES:Basketball masculin
LOCATION:Cégep de Sainte-Foy\, 2410\, chemin Sainte-Foy\, Québec\, Québe
 c\, G1V 1T2\, Canada
X-APPLE-STRUCTURED-LOCATION;VALUE=URI;X-ADDRESS=2410\, chemin Sainte-Foy\, 
 Québec\, Québec\, G1V 1T2\, Canada;X-APPLE-RADIUS=100;X-TITLE=Cégep de 
 Sainte-Foy:geo:0,0
END:VEVENT
BEGIN:VTIMEZONE
TZID:America/Toronto
X-LIC-LOCATION:America/Toronto
BEGIN:STANDARD
DTSTART:20211107T010000
TZOFFSETFROM:-0400
TZOFFSETTO:-0500
TZNAME:EST
END:STANDARD
END:VTIMEZONE
END:VCALENDAR