BEGIN:VCALENDAR
VERSION:2.0
PRODID:-//wp-events-plugin.com//7.2.3.1//EN
TZID:America/New_York
X-WR-TIMEZONE:America/New_York
BEGIN:VEVENT
UID:269@cndf.qc.ca
DTSTART;TZID=America/New_York:20241006T160000
DTEND;TZID=America/New_York:20241006T170000
DTSTAMP:20240919T185353Z
URL:https://www.cndf.qc.ca/events/cegep-beauce-appalaches-notre-dame-bleu-
 octobre-2024/
SUMMARY:Cégep Beauce-Appalaches c. Notre-Dame (bleu)
DESCRIPTION:Quatrième partie de la saison de l’équipe féminine du Notr
 e-Dame Rugby (bleu) contre le Cégep de Beauce-Appalaches.\n\nLien pour le
  webdiffusion : https://youtube.com/live/yQ7qeySb82M?feature=share\n\n&nbs
 p\;
ATTACH;FMTTYPE=image/jpeg:https://www.cndf.qc.ca/wp-content/uploads/2024/0
 5/rugby-feminin-notre-dame-2023.jpg
CATEGORIES:Rugby,Rugby féminin à 12
LOCATION:Campus Notre-Dame-de-Foy (stade des Anciens)\, 5000\, rue Clément
 -Lockquell\, Saint-Augustin-de-Desmaures\, Québec\, G3A 1B3\, Canada
X-APPLE-STRUCTURED-LOCATION;VALUE=URI;X-ADDRESS=5000\, rue Clément-Lockque
 ll\, Saint-Augustin-de-Desmaures\, Québec\, G3A 1B3\, Canada;X-APPLE-RADI
 US=100;X-TITLE=Campus Notre-Dame-de-Foy (stade des Anciens):geo:0,0
END:VEVENT
BEGIN:VTIMEZONE
TZID:America/New_York
X-LIC-LOCATION:America/New_York
BEGIN:DAYLIGHT
DTSTART:20240310T030000
TZOFFSETFROM:-0500
TZOFFSETTO:-0400
TZNAME:EDT
END:DAYLIGHT
END:VTIMEZONE
END:VCALENDAR