BEGIN:VCALENDAR
VERSION:2.0
PRODID:-//wp-events-plugin.com//7.2.3.1//EN
TZID:America/New_York
X-WR-TIMEZONE:America/New_York
BEGIN:VEVENT
UID:180@cndf.qc.ca
DTSTART;TZID=America/New_York:20230616T153000
DTEND;TZID=America/New_York:20230616T153000
DTSTAMP:20230531T172530Z
URL:https://www.cndf.qc.ca/events/ceremonie-intervention-securite-incendie
 -juin-2023
SUMMARY:Cérémonie de fin d’études du DEP Intervention en sécurité in
 cendie
DESCRIPTION:La cérémonie de fin d’études du programme DEP Intervention
  en sécurité incendie aura lieu le vendredi 16 juin à 15h30 dans le sta
 tionnement du Campus ou dans le Stade Leclerc si la météo n’est pas de
  notre côté. Il y aura ensuite un repas servi à la cafétéria.
ATTACH;FMTTYPE=image/jpeg:https://www.cndf.qc.ca/wp-content/uploads/2023/0
 5/ceremonie_diplomes_dep_securite_incendie_2022.jpg
CATEGORIES:Événements majeurs du CNDF
LOCATION:Campus Notre-Dame-de-Foy\, 5000\, rue Clément-Lockquell\, Saint-A
 ugustin-de-Desmaures\, Québec\, G3A 1B3\, Québec\, Canada
X-APPLE-STRUCTURED-LOCATION;VALUE=URI;X-ADDRESS=5000\, rue Clément-Lockque
 ll\, Saint-Augustin-de-Desmaures\, Québec\, G3A 1B3\, Québec\, Canada;X-
 APPLE-RADIUS=100;X-TITLE=Campus Notre-Dame-de-Foy:geo:0,0
END:VEVENT
BEGIN:VTIMEZONE
TZID:America/New_York
X-LIC-LOCATION:America/New_York
BEGIN:DAYLIGHT
DTSTART:20230312T030000
TZOFFSETFROM:-0500
TZOFFSETTO:-0400
TZNAME:EDT
END:DAYLIGHT
END:VTIMEZONE
END:VCALENDAR