BEGIN:VCALENDAR
VERSION:2.0
PRODID:-//wp-events-plugin.com//7.2.3.1//EN
TZID:America/New_York
X-WR-TIMEZONE:America/New_York
BEGIN:VEVENT
UID:368@cndf.qc.ca
DTSTART;VALUE=DATE:20251011
DTEND;VALUE=DATE:20251012
DTSTAMP:20251010T152936Z
URL:https://www.cndf.qc.ca/events/championnat-conference-cross-country-202
 5/
SUMMARY:Championnat de conférence de cross-country
DESCRIPTION:Ce championnat de conférence de cross-country aura lieu à l'U
 niversité de Sherbrooke.
ATTACH;FMTTYPE=image/jpeg:https://www.cndf.qc.ca/wp-content/uploads/2025/0
 6/cross-country-1-scaled.jpeg
CATEGORIES:Cross-country,Sports
END:VEVENT
END:VCALENDAR