BEGIN:VCALENDAR
VERSION:2.0
PRODID:-//wp-events-plugin.com//7.2.3.1//EN
TZID:America/New_York
X-WR-TIMEZONE:America/New_York
BEGIN:VEVENT
UID:282@cndf.qc.ca
DTSTART;VALUE=DATE:20241012
DTEND;VALUE=DATE:20241013
DTSTAMP:20240903T194026Z
URL:https://www.cndf.qc.ca/events/championnat-conference-cross-country-oct
 obre-2024/
SUMMARY:Championnat de conférence Nord-Est
DESCRIPTION:Ce championnat de conférence de cross-country aura lieu à l
 ’Université de Sherbrooke.
ATTACH;FMTTYPE=image/jpeg:https://www.cndf.qc.ca/wp-content/uploads/2021/0
 8/cross-country-cndf.jpg
CATEGORIES:Cross-country,Sports
LOCATION:Université de Sherbrooke\, 2500\, boul. de l'Université\, Sherbr
 ooke\, Québec\, J1K 2R1\, Canada
X-APPLE-STRUCTURED-LOCATION;VALUE=URI;X-ADDRESS=2500\, boul. de l'Universit
 é\, Sherbrooke\, Québec\, J1K 2R1\, Canada;X-APPLE-RADIUS=100;X-TITLE=Un
 iversité de Sherbrooke:geo:0,0
END:VEVENT
END:VCALENDAR