BEGIN:VCALENDAR
VERSION:2.0
PRODID:-//wp-events-plugin.com//7.2.3.1//EN
TZID:America/New_York
X-WR-TIMEZONE:America/New_York
BEGIN:VEVENT
UID:275@cndf.qc.ca
DTSTART;TZID=America/New_York:20250322T000000
DTEND;TZID=America/New_York:20250322T000000
DTSTAMP:20240610T192035Z
URL:https://www.cndf.qc.ca/events/championnat-conference-natation-mars-202
 5/
SUMMARY:Championnat de conférence à Jonquière
DESCRIPTION:Le Championnat de conférence de natation aura lieu à Jonquiè
 re.\n\n&nbsp\;
ATTACH;FMTTYPE=image/jpeg:https://www.cndf.qc.ca/wp-content/uploads/2023/0
 5/equipe_natation_cndf.jpg
CATEGORIES:Natation,Sports
LOCATION:Cégep de Jonquière\, 2505 Rue Saint-Hubert\, Jonquière\, Québe
 c\, G7X 7W2\, Canada
X-APPLE-STRUCTURED-LOCATION;VALUE=URI;X-ADDRESS=2505 Rue Saint-Hubert\, Jon
 quière\, Québec\, G7X 7W2\, Canada;X-APPLE-RADIUS=100;X-TITLE=Cégep de 
 Jonquière:geo:0,0
END:VEVENT
BEGIN:VTIMEZONE
TZID:America/New_York
X-LIC-LOCATION:America/New_York
BEGIN:DAYLIGHT
DTSTART:20250309T030000
TZOFFSETFROM:-0500
TZOFFSETTO:-0400
TZNAME:EDT
END:DAYLIGHT
END:VTIMEZONE
END:VCALENDAR