BEGIN:VCALENDAR
VERSION:2.0
PRODID:-//wp-events-plugin.com//7.2.3.1//EN
TZID:America/New_York
X-WR-TIMEZONE:America/New_York
BEGIN:VEVENT
UID:99@cndf.qc.ca
DTSTART;VALUE=DATE:20221016
DTEND;VALUE=DATE:20221017
DTSTAMP:20220714T191557Z
URL:https://www.cndf.qc.ca/events/championnat-conference-nord-est-collegia
 l-2022/
SUMMARY:Championnat de conférence au CNDF
DESCRIPTION:Championnat de conférence de cross-country\nRSEQ Collégial No
 rd-Est\n\nPour plus de détails\, consultez http://www.rseq.ca/sports/cros
 s-country/collegial/nord-est/resultats/\n
ATTACH;FMTTYPE=image/jpeg:https://www.cndf.qc.ca/wp-content/uploads/2021/0
 8/cross-country-cndf.jpg
CATEGORIES:Cross-country,Sports
LOCATION:Campus Notre-Dame-de-Foy\, 5000\, rue Clément-Lockquell\, Saint-A
 ugustin-de-Desmaures\, Québec\, G3A 1B3\, Québec\, Canada
X-APPLE-STRUCTURED-LOCATION;VALUE=URI;X-ADDRESS=5000\, rue Clément-Lockque
 ll\, Saint-Augustin-de-Desmaures\, Québec\, G3A 1B3\, Québec\, Canada;X-
 APPLE-RADIUS=100;X-TITLE=Campus Notre-Dame-de-Foy:geo:0,0
END:VEVENT
END:VCALENDAR