BEGIN:VCALENDAR
VERSION:2.0
PRODID:-//wp-events-plugin.com//7.2.3.1//EN
TZID:America/New_York
X-WR-TIMEZONE:America/New_York
BEGIN:VEVENT
UID:280@cndf.qc.ca
DTSTART;TZID=America/New_York:20241027T110000
DTEND;TZID=America/New_York:20241027T110000
DTSTAMP:20241022T182147Z
URL:https://www.cndf.qc.ca/events/championnat-cross-country-octobre-2024/
SUMMARY:Championnat - Conférence Nord-Est au Campus Notre-Dame-de-Foy
DESCRIPTION:Championnat collégial de rugby masculin de la conférence Nord
 -Est qui se déroulera au Campus Notre-Dame-de-Foy.\n\nLien pour la webdif
 fusion : https://youtube.com/live/Uh8RrluoxcM?feature=share
ATTACH;FMTTYPE=image/jpeg:https://www.cndf.qc.ca/wp-content/uploads/2024/0
 5/championnat-regionale-de-rugby-masculin-bon-format.jpg
CATEGORIES:Rugby,Rugby masculin à 7
LOCATION:Campus Notre-Dame-de-Foy\, 5000\, rue Clément-Lockquell\, Saint-A
 ugustin-de-Desmaures\, Québec\, G3A 1B3\, Québec\, Canada
X-APPLE-STRUCTURED-LOCATION;VALUE=URI;X-ADDRESS=5000\, rue Clément-Lockque
 ll\, Saint-Augustin-de-Desmaures\, Québec\, G3A 1B3\, Québec\, Canada;X-
 APPLE-RADIUS=100;X-TITLE=Campus Notre-Dame-de-Foy:geo:0,0
END:VEVENT
BEGIN:VTIMEZONE
TZID:America/New_York
X-LIC-LOCATION:America/New_York
BEGIN:DAYLIGHT
DTSTART:20240310T030000
TZOFFSETFROM:-0500
TZOFFSETTO:-0400
TZNAME:EDT
END:DAYLIGHT
END:VTIMEZONE
END:VCALENDAR