BEGIN:VCALENDAR
VERSION:2.0
PRODID:-//wp-events-plugin.com//7.2.3.1//EN
TZID:America/New_York
X-WR-TIMEZONE:America/New_York
BEGIN:VEVENT
UID:149@cndf.qc.ca
DTSTART;TZID=America/New_York;VALUE=DATE:20221112
DTEND;TZID=America/New_York;VALUE=DATE:20221113
DTSTAMP:20221108T204317Z
URL:https://www.cndf.qc.ca/events/championnat-de-cross-country-canadien/
SUMMARY:Championnat de cross-country canadien
DESCRIPTION:
ATTACH;FMTTYPE=image/jpeg:https://www.cndf.qc.ca/wp-content/uploads/2021/0
 8/cross-country-cndf.jpg
END:VEVENT
BEGIN:VTIMEZONE
TZID:America/New_York
X-LIC-LOCATION:America/New_York
BEGIN:STANDARD
DTSTART:20221106T010000
TZOFFSETFROM:-0400
TZOFFSETTO:-0500
TZNAME:EST
END:STANDARD
END:VTIMEZONE
END:VCALENDAR