BEGIN:VCALENDAR
VERSION:2.0
PRODID:-//wp-events-plugin.com//7.2.3.1//EN
TZID:America/New_York
X-WR-TIMEZONE:America/New_York
BEGIN:VEVENT
UID:369@cndf.qc.ca
DTSTART;VALUE=DATE:20251025
DTEND;VALUE=DATE:20251026
DTSTAMP:20250605T195615Z
URL:https://www.cndf.qc.ca/events/championnat-provincial-cross-country-202
 5/
SUMMARY:Championnat provincial de cross-country
DESCRIPTION:Ce championnat provincial de cross-country aura lieu à Valleyf
 ield et au Parc Nature les Forestiers\, à Saint-Lazare.
ATTACH;FMTTYPE=image/jpeg:https://www.cndf.qc.ca/wp-content/uploads/2025/0
 6/cross-country-1-scaled.jpeg
CATEGORIES:Cross-country,Sports
END:VEVENT
END:VCALENDAR