BEGIN:VCALENDAR
VERSION:2.0
PRODID:-//wp-events-plugin.com//7.2.3.1//EN
TZID:America/New_York
X-WR-TIMEZONE:America/New_York
BEGIN:VEVENT
UID:276@cndf.qc.ca
DTSTART;TZID=America/New_York;VALUE=DATE:20250412
DTEND;TZID=America/New_York;VALUE=DATE:20250414
DTSTAMP:20250407T143249Z
URL:https://www.cndf.qc.ca/events/championnat-provincial-natation-avril-20
 25/
SUMMARY:Championnat provincial au Collège John Abbott
DESCRIPTION:Le Championnat provincial de natation aura lieu au Collège Joh
 n Abbott.\n\nPour tous les résultats\, veuillez visiter le site web du ch
 ampionnat en cliquant ici. L’intégralité de la compétition sera égal
 ement webdiffusée sur leur chaîne YouTube.
ATTACH;FMTTYPE=image/jpeg:https://www.cndf.qc.ca/wp-content/uploads/2023/0
 5/equipe_natation_cndf.jpg
CATEGORIES:Natation,Sports
LOCATION:Collège John Abbott\, 21 275 Rue Lakeshore Road\, Sainte-Anne-de-
 Bellevue\, Québec\, H9X 3L9\, Canada
X-APPLE-STRUCTURED-LOCATION;VALUE=URI;X-ADDRESS=21 275 Rue Lakeshore Road\,
  Sainte-Anne-de-Bellevue\, Québec\, H9X 3L9\, Canada;X-APPLE-RADIUS=100;X
 -TITLE=Collège John Abbott:geo:0,0
END:VEVENT
BEGIN:VTIMEZONE
TZID:America/New_York
X-LIC-LOCATION:America/New_York
BEGIN:DAYLIGHT
DTSTART:20250309T030000
TZOFFSETFROM:-0500
TZOFFSETTO:-0400
TZNAME:EDT
END:DAYLIGHT
END:VTIMEZONE
END:VCALENDAR