BEGIN:VCALENDAR
VERSION:2.0
PRODID:-//wp-events-plugin.com//7.2.3.1//EN
TZID:America/New_York
X-WR-TIMEZONE:America/New_York
BEGIN:VEVENT
UID:319@cndf.qc.ca
DTSTART;TZID=America/New_York;VALUE=DATE:20250322
DTEND;TZID=America/New_York;VALUE=DATE:20250324
DTSTAMP:20240923T173244Z
URL:https://www.cndf.qc.ca/events/championnat-regional-basketball-feminin-
 mars-2025/
SUMMARY:Championnat régional basketball féminin
DESCRIPTION:Championnat régional de basketball féminin du RSEQ.
ATTACH;FMTTYPE=image/jpeg:https://www.cndf.qc.ca/wp-content/uploads/2022/1
 0/basket_feminin_masculin.jpg
CATEGORIES:Basketball féminin,Sports
END:VEVENT
BEGIN:VTIMEZONE
TZID:America/New_York
X-LIC-LOCATION:America/New_York
BEGIN:DAYLIGHT
DTSTART:20250309T030000
TZOFFSETFROM:-0500
TZOFFSETTO:-0400
TZNAME:EDT
END:DAYLIGHT
END:VTIMEZONE
END:VCALENDAR