BEGIN:VCALENDAR
VERSION:2.0
PRODID:-//wp-events-plugin.com//7.2.3.1//EN
TZID:America/New_York
X-WR-TIMEZONE:America/New_York
BEGIN:VEVENT
UID:306@cndf.qc.ca
DTSTART;TZID=America/New_York;VALUE=DATE:20250322
DTEND;TZID=America/New_York;VALUE=DATE:20250323
DTSTAMP:20240920T145027Z
URL:https://www.cndf.qc.ca/events/championnat-volleyball-collegial-mars-20
 25/
SUMMARY:Championnat régional au Collège Mérici
DESCRIPTION:Le Championnat régional de volleyball féminin de la ligue col
 légiale du RSEQ aura lieu au Collège Mérici.\n\n&nbsp\;
ATTACH;FMTTYPE=image/jpeg:https://www.cndf.qc.ca/wp-content/uploads/2021/0
 9/calendrier-volleyball-feminin-scaled.jpg
CATEGORIES:Sports,Volleyball
LOCATION:Collège Mérici\, 755 Grande Allée O\, Québec\, Québec\, G1S 1
 C1\, Canada
X-APPLE-STRUCTURED-LOCATION;VALUE=URI;X-ADDRESS=755 Grande Allée O\, Québ
 ec\, Québec\, G1S 1C1\, Canada;X-APPLE-RADIUS=100;X-TITLE=Collège Méric
 i:geo:0,0
END:VEVENT
BEGIN:VTIMEZONE
TZID:America/New_York
X-LIC-LOCATION:America/New_York
BEGIN:DAYLIGHT
DTSTART:20250309T030000
TZOFFSETFROM:-0500
TZOFFSETTO:-0400
TZNAME:EDT
END:DAYLIGHT
END:VTIMEZONE
END:VCALENDAR