BEGIN:VCALENDAR
VERSION:2.0
PRODID:-//wp-events-plugin.com//7.2.3.1//EN
TZID:America/New_York
X-WR-TIMEZONE:America/New_York
BEGIN:VEVENT
UID:80@cndf.qc.ca
DTSTART;TZID=America/New_York:20220316T131000
DTEND;TZID=America/New_York:20220316T140000
DTSTAMP:20220307T210839Z
URL:https://www.cndf.qc.ca/events/cinderella-theatre-ephemere-16_mars_2022
 /
SUMMARY:Cinderella - théâtre éphémère
DESCRIPTION:Théâtre éphémère avec Laurence Bergeron Pilote\, Florence 
 Breton\, Megan Jobin et Sarah Lehoux.\n\nElles vous présenteront un extra
 it chanté en anglais de la version originale de Cinderella (1987).\n\nPia
 no : Dominique Gagnon\n\nDirection musicale et artistique : Michelle Fount
 ain\n\n&nbsp\;
ATTACH;FMTTYPE=image/jpeg:https://www.cndf.qc.ca/wp-content/uploads/2022/0
 3/spectacle-cinderella-mars2022.jpg
CATEGORIES:Arts de la scène,Spectacles
LOCATION:Auditorium Jean-Pierre-Tremblay\, 5000\, rue Clément-Lockquell\, 
 Saint-Augustin-de-Desmaures\, Québec\, G3A 1B3\, Canada
X-APPLE-STRUCTURED-LOCATION;VALUE=URI;X-ADDRESS=5000\, rue Clément-Lockque
 ll\, Saint-Augustin-de-Desmaures\, Québec\, G3A 1B3\, Canada;X-APPLE-RADI
 US=100;X-TITLE=Auditorium Jean-Pierre-Tremblay:geo:0,0
END:VEVENT
BEGIN:VTIMEZONE
TZID:America/New_York
X-LIC-LOCATION:America/New_York
BEGIN:DAYLIGHT
DTSTART:20220313T030000
TZOFFSETFROM:-0500
TZOFFSETTO:-0400
TZNAME:EDT
END:DAYLIGHT
END:VTIMEZONE
END:VCALENDAR