BEGIN:VCALENDAR
VERSION:2.0
PRODID:-//wp-events-plugin.com//7.2.3.1//EN
TZID:America/New_York
X-WR-TIMEZONE:America/New_York
BEGIN:VEVENT
UID:155@cndf.qc.ca
DTSTART;TZID=America/New_York:20230208T110000
DTEND;TZID=America/New_York:20230208T160000
DTSTAMP:20230208T162235Z
URL:https://www.cndf.qc.ca/events/collecte-de-sang-avec-hema-quebec/
SUMMARY:Collecte de sang avec Héma-Québec
DESCRIPTION:Nous recevons l’équipe de Héma-Québec pour une collecte de
  sang dans le salon étudiant. Si vous désirez donner\, cliquez ici pour 
 prendre rendez-vous. Seules les personnes qui auront pris un rendez-vous a
 u préalable pourront faire un don de sang. Pensez-y\, vous êtes à un cl
 ic de sauver une vie!
ATTACH;FMTTYPE=image/jpeg:https://www.cndf.qc.ca/wp-content/uploads/2023/0
 2/collecte-de-sang-hema-quebec.png
CATEGORIES:Autres
END:VEVENT
BEGIN:VTIMEZONE
TZID:America/New_York
X-LIC-LOCATION:America/New_York
BEGIN:STANDARD
DTSTART:20221106T010000
TZOFFSETFROM:-0400
TZOFFSETTO:-0500
TZNAME:EST
END:STANDARD
END:VTIMEZONE
END:VCALENDAR