BEGIN:VCALENDAR
VERSION:2.0
PRODID:-//wp-events-plugin.com//7.2.3.1//EN
TZID:America/New_York
X-WR-TIMEZONE:America/New_York
BEGIN:VEVENT
UID:336@cndf.qc.ca
DTSTART;TZID=America/New_York;VALUE=DATE:20241120
DTEND;TZID=America/New_York;VALUE=DATE:20241121
DTSTAMP:20241023T193001Z
URL:https://www.cndf.qc.ca/events/collecte-sang-hema-quebec-2024/
SUMMARY:Collecte de sang avec Héma-Québec
DESCRIPTION:Le 20 novembre\, le Campus Notre-Dame-de-Foy recevra l’équip
 e de Héma-Québec pour une collecte de sang dans le salon étudiant. Si v
 ous désirez donner\, cliquez ici pour prendre rendez-vous. Seules les per
 sonnes qui auront pris un rendez-vous au préalable pourront faire un don 
 de sang. Pensez-y\, vous êtes à un clic de sauver une vie!
ATTACH;FMTTYPE=image/jpeg:https://www.cndf.qc.ca/wp-content/uploads/2023/0
 2/collecte-de-sang-hema-quebec.png
CATEGORIES:Événements majeurs du CNDF
END:VEVENT
BEGIN:VTIMEZONE
TZID:America/New_York
X-LIC-LOCATION:America/New_York
BEGIN:STANDARD
DTSTART:20241103T010000
TZOFFSETFROM:-0400
TZOFFSETTO:-0500
TZNAME:EST
END:STANDARD
END:VTIMEZONE
END:VCALENDAR