BEGIN:VCALENDAR
VERSION:2.0
PRODID:-//wp-events-plugin.com//7.2.3.1//EN
TZID:America/New_York
X-WR-TIMEZONE:America/New_York
BEGIN:VEVENT
UID:385@cndf.qc.ca
DTSTART;TZID=America/New_York:20251024T193000
DTEND;TZID=America/New_York:20251024T223000
DTSTAMP:20251009T140859Z
URL:https://www.cndf.qc.ca/events/college-champlain-lennoxville-c-notre-da
 me/
SUMMARY:Collège Champlain-Lennoxville c. Notre-Dame
DESCRIPTION:Le dernier match de la saison régulière 2025 est une présent
 ation de la Caisse Desjardins de Cap-Rouge - Saint-Augustin.\n\nÀ cette o
 ccasion\, le Notre-Dame du Campus Notre-Dame-de-Foy affrontera le Collège
  Champlain-Lennoxville au Stade des Anciens. La visite des Cougars sera au
 ssi l’occasion de rendre hommage aux finissants 2025 du Notre-Dame Footb
 all.\n\nBien qu’il soit toujours possible d’acheter des billets sur pl
 ace\, nous vous encourageons à vous les procurer à l’avance via le for
 mulaire suivant :\n\n&nbsp\;\n
ATTACH;FMTTYPE=image/jpeg:https://www.cndf.qc.ca/wp-content/uploads/2025/0
 8/calendrier_lennoxville_vs_cndf-1320x564-1.png
CATEGORIES:Football,Sports
LOCATION:Campus Notre-Dame-de-Foy (stade des Anciens)\, 5000\, rue Clément
 -Lockquell\, Saint-Augustin-de-Desmaures\, Québec\, G3A 1B3\, Canada
X-APPLE-STRUCTURED-LOCATION;VALUE=URI;X-ADDRESS=5000\, rue Clément-Lockque
 ll\, Saint-Augustin-de-Desmaures\, Québec\, G3A 1B3\, Canada;X-APPLE-RADI
 US=100;X-TITLE=Campus Notre-Dame-de-Foy (stade des Anciens):geo:0,0
END:VEVENT
BEGIN:VTIMEZONE
TZID:America/New_York
X-LIC-LOCATION:America/New_York
BEGIN:DAYLIGHT
DTSTART:20250309T030000
TZOFFSETFROM:-0500
TZOFFSETTO:-0400
TZNAME:EDT
END:DAYLIGHT
END:VTIMEZONE
END:VCALENDAR