BEGIN:VCALENDAR
VERSION:2.0
PRODID:-//wp-events-plugin.com//7.2.3.1//EN
TZID:America/New_York
X-WR-TIMEZONE:America/New_York
BEGIN:VEVENT
UID:97@cndf.qc.ca
DTSTART;VALUE=DATE:20220918
DTEND;VALUE=DATE:20220919
DTSTAMP:20220714T191518Z
URL:https://www.cndf.qc.ca/events/competition-1-cross-country-2022/
SUMMARY:Compétition #1 à Victoriaville
DESCRIPTION:Compétition #1 de cross-country\nRSEQ Collégial Nord-Est\n
ATTACH;FMTTYPE=image/jpeg:https://www.cndf.qc.ca/wp-content/uploads/2021/0
 8/cross-country-cndf.jpg
CATEGORIES:Cross-country,Sports
LOCATION:Cégep de Victoriaville\, 475\, rue Notre-Dame Est\, Victoriaville
 \, Québec\, G6P 4B3\, Canada
X-APPLE-STRUCTURED-LOCATION;VALUE=URI;X-ADDRESS=475\, rue Notre-Dame Est\, 
 Victoriaville\, Québec\, G6P 4B3\, Canada;X-APPLE-RADIUS=100;X-TITLE=Cég
 ep de Victoriaville:geo:0,0
END:VEVENT
END:VCALENDAR