BEGIN:VCALENDAR
VERSION:2.0
PRODID:-//wp-events-plugin.com//7.2.3.1//EN
TZID:America/New_York
X-WR-TIMEZONE:America/New_York
BEGIN:VEVENT
UID:77@cndf.qc.ca
DTSTART;TZID=America/New_York:20220326T083000
DTEND;TZID=America/New_York:20220326T140000
DTSTAMP:20220307T203702Z
URL:https://www.cndf.qc.ca/events/competition-2-drummondville-soccer-inter
 ieur-masculin-2022/
SUMMARY:Compétition #2 – Drummondville
DESCRIPTION:Deuxième journée de compétition pour l'équipe masculine de 
 soccer intérieur du Campus Notre-Dame-de-Foy.\n\nSaint-Félicien vs Notre
 -Dame à 8:30\n\nNotre-Dame vs Shawinigan à 12:50\n\n&nbsp\;
ATTACH;FMTTYPE=image/jpeg:https://www.cndf.qc.ca/wp-content/uploads/2022/0
 3/entete_calendrier_soccer_masculin-1-scaled.jpg
CATEGORIES:Soccer intérieur masculin
LOCATION:Centre sportif Girardin\, 805\, rue Marchand\, Drummondville\, Qu
 ébec\, J2C 0S7\, Canada
X-APPLE-STRUCTURED-LOCATION;VALUE=URI;X-ADDRESS=805\, rue Marchand\, Drummo
 ndville\, Québec\, J2C 0S7\, Canada;X-APPLE-RADIUS=100;X-TITLE=Centre spo
 rtif Girardin:geo:0,0
END:VEVENT
BEGIN:VTIMEZONE
TZID:America/New_York
X-LIC-LOCATION:America/New_York
BEGIN:DAYLIGHT
DTSTART:20220313T030000
TZOFFSETFROM:-0500
TZOFFSETTO:-0400
TZNAME:EDT
END:DAYLIGHT
END:VTIMEZONE
END:VCALENDAR