BEGIN:VCALENDAR
VERSION:2.0
PRODID:-//wp-events-plugin.com//7.2.3.1//EN
TZID:America/New_York
X-WR-TIMEZONE:America/New_York
BEGIN:VEVENT
UID:50@cndf.qc.ca
DTSTART;TZID=America/Toronto:20220205T100000
DTEND;TZID=America/Toronto:20220205T180000
DTSTAMP:20220202T212322Z
URL:https://www.cndf.qc.ca/events/competition-3-quebec-garneau/
SUMMARY:ANNULÉE - Compétition #3 - Trois-Rivières
DESCRIPTION:ANNULÉE\n\nTroisième compétition de la saison de volley-ball
  féminin pour le Notre-Dame au Pavillon des Humanités du Cégep de Trois
 -Rivières.\n\nNotre-Dame vs Limoilou à 10:00\nNotre-Dame vs Chicoutimi 
 à 11:15\nThetford vs Notre-Dame à 13:45\nTrois-Rivières vs Notre-Dame 
 à 16:15
ATTACH;FMTTYPE=image/jpeg:https://www.cndf.qc.ca/wp-content/uploads/2021/0
 9/calendrier-volleyball-feminin-scaled.jpg
CATEGORIES:Volleyball
LOCATION:Cégep de Trois-Rivières\, 3175\, boulevard Laviolette\, Trois-Ri
 vières\, Québec\, G8Z 1E9\, Canada
X-APPLE-STRUCTURED-LOCATION;VALUE=URI;X-ADDRESS=3175\, boulevard Laviolette
 \, Trois-Rivières\, Québec\, G8Z 1E9\, Canada;X-APPLE-RADIUS=100;X-TITLE
 =Cégep de Trois-Rivières:geo:0,0
END:VEVENT
BEGIN:VTIMEZONE
TZID:America/Toronto
X-LIC-LOCATION:America/Toronto
BEGIN:STANDARD
DTSTART:20211107T010000
TZOFFSETFROM:-0400
TZOFFSETTO:-0500
TZNAME:EST
END:STANDARD
END:VTIMEZONE
END:VCALENDAR