BEGIN:VCALENDAR
VERSION:2.0
PRODID:-//wp-events-plugin.com//7.2.3.1//EN
TZID:America/New_York
X-WR-TIMEZONE:America/New_York
BEGIN:VEVENT
UID:78@cndf.qc.ca
DTSTART;TZID=America/New_York:20220402T125000
DTEND;TZID=America/New_York:20220402T194500
DTSTAMP:20220307T203447Z
URL:https://www.cndf.qc.ca/events/competition-3-victoriaville-soccer-inter
 ieur-masculin-2022/
SUMMARY:Compétition #3 – Victoriaville
DESCRIPTION:Troisième journée de compétition pour l'équipe masculine de
  soccer intérieur du Campus Notre-Dame-de-Foy.\n\nNotre-Dame vs Baie-Come
 au à 12:50\n\nTrois-Rivières (blanc) vs Notre-Dame à 18:15\n\n&nbsp\;\n
 \n&nbsp\;\n\n&nbsp\;
ATTACH;FMTTYPE=image/jpeg:https://www.cndf.qc.ca/wp-content/uploads/2022/0
 3/entete_calendrier_soccer_masculin-1-scaled.jpg
CATEGORIES:Soccer intérieur masculin
LOCATION:Complexe Multisport Promutuel\, 605\, rue Notre-Dame Est\, Victori
 aville\, Québec\, G6P 6Y9\, Canada
X-APPLE-STRUCTURED-LOCATION;VALUE=URI;X-ADDRESS=605\, rue Notre-Dame Est\, 
 Victoriaville\, Québec\, G6P 6Y9\, Canada;X-APPLE-RADIUS=100;X-TITLE=Comp
 lexe Multisport Promutuel:geo:0,0
END:VEVENT
BEGIN:VTIMEZONE
TZID:America/New_York
X-LIC-LOCATION:America/New_York
BEGIN:DAYLIGHT
DTSTART:20220313T030000
TZOFFSETFROM:-0500
TZOFFSETTO:-0400
TZNAME:EDT
END:DAYLIGHT
END:VTIMEZONE
END:VCALENDAR