BEGIN:VCALENDAR
VERSION:2.0
PRODID:-//wp-events-plugin.com//7.2.3.1//EN
TZID:America/New_York
X-WR-TIMEZONE:America/New_York
BEGIN:VEVENT
UID:68@cndf.qc.ca
DTSTART;TZID=America/Toronto:20220319T000000
DTEND;TZID=America/Toronto:20220319T000000
DTSTAMP:20220302T202459Z
URL:https://www.cndf.qc.ca/events/competition-5-trois-rivieres/
SUMMARY:Compétition #3 - Trois-Rivières
DESCRIPTION:Dernière compétition de la saison de volley-ball féminin pou
 r le Notre-Dame au pavillon des Humanités du Cégep de Trois-Rivières.\
 n\nNotre-Dame vs Limoilou : heure à déterminer\nNotre-Dame vs Chicoutimi
  : heure à déterminer\nThetford vs Notre-Dame : heure à déterminer\nTr
 ois-Rivières vs Notre-Dame : heure à déterminer
ATTACH;FMTTYPE=image/jpeg:https://www.cndf.qc.ca/wp-content/uploads/2021/0
 9/calendrier-volleyball-feminin-scaled.jpg
CATEGORIES:Volleyball
LOCATION:Cégep de Trois-Rivières\, 3175\, boulevard Laviolette\, Trois-Ri
 vières\, Québec\, G8Z 1E9\, Canada
X-APPLE-STRUCTURED-LOCATION;VALUE=URI;X-ADDRESS=3175\, boulevard Laviolette
 \, Trois-Rivières\, Québec\, G8Z 1E9\, Canada;X-APPLE-RADIUS=100;X-TITLE
 =Cégep de Trois-Rivières:geo:0,0
END:VEVENT
BEGIN:VTIMEZONE
TZID:America/Toronto
X-LIC-LOCATION:America/Toronto
BEGIN:DAYLIGHT
DTSTART:20220313T030000
TZOFFSETFROM:-0500
TZOFFSETTO:-0400
TZNAME:EDT
END:DAYLIGHT
END:VTIMEZONE
END:VCALENDAR