BEGIN:VCALENDAR
VERSION:2.0
PRODID:-//wp-events-plugin.com//7.2.3.1//EN
TZID:America/New_York
X-WR-TIMEZONE:America/New_York
BEGIN:VEVENT
UID:366@cndf.qc.ca
DTSTART;VALUE=DATE:20250913
DTEND;VALUE=DATE:20250914
DTSTAMP:20250605T194242Z
URL:https://www.cndf.qc.ca/events/competition-cross-country-baie-comeau-20
 25/
SUMMARY:Compétition #1 au Cégep de Baie-Comeau
DESCRIPTION:Cette première compétition de cross-country collégial du RSE
 Q aura lieu au Cégep de Baie-Comeau.
ATTACH;FMTTYPE=image/jpeg:https://www.cndf.qc.ca/wp-content/uploads/2025/0
 6/cross-country-1-scaled.jpeg
CATEGORIES:Cross-country,Sports
LOCATION:Cégep de Baie-Comeau\, 537\, boulevard Blanche\, Baie-Comeau\, Qu
 ébec\, G5C 2B2\, Canada
X-APPLE-STRUCTURED-LOCATION;VALUE=URI;X-ADDRESS=537\, boulevard Blanche\, B
 aie-Comeau\, Québec\, G5C 2B2\, Canada;X-APPLE-RADIUS=100;X-TITLE=Cégep 
 de Baie-Comeau:geo:0,0
END:VEVENT
END:VCALENDAR