BEGIN:VCALENDAR
VERSION:2.0
PRODID:-//wp-events-plugin.com//7.2.3.1//EN
TZID:America/New_York
X-WR-TIMEZONE:America/New_York
BEGIN:VEVENT
UID:281@cndf.qc.ca
DTSTART;VALUE=DATE:20240915
DTEND;VALUE=DATE:20240916
DTSTAMP:20240903T183311Z
URL:https://www.cndf.qc.ca/events/competition-cross-country-cegep-jonquier
 e-septembre-2024/
SUMMARY:Compétition #1 au Cégep de Jonquière
DESCRIPTION:Cette première compétition de cross-country collégial du RSE
 Q aura lieu au Cégep de Jonquière\, au Parc Rivière-du-Moulin.
ATTACH;FMTTYPE=image/jpeg:https://www.cndf.qc.ca/wp-content/uploads/2021/0
 8/cross-country-cndf.jpg
CATEGORIES:Cross-country,Sports
LOCATION:Cégep de Jonquière\, 2505 Rue Saint-Hubert\, Jonquière\, Québe
 c\, G7X 7W2\, Canada
X-APPLE-STRUCTURED-LOCATION;VALUE=URI;X-ADDRESS=2505 Rue Saint-Hubert\, Jon
 quière\, Québec\, G7X 7W2\, Canada;X-APPLE-RADIUS=100;X-TITLE=Cégep de 
 Jonquière:geo:0,0
END:VEVENT
END:VCALENDAR