BEGIN:VCALENDAR
VERSION:2.0
PRODID:-//wp-events-plugin.com//7.2.3.1//EN
TZID:America/New_York
X-WR-TIMEZONE:America/New_York
BEGIN:VEVENT
UID:367@cndf.qc.ca
DTSTART;VALUE=DATE:20250928
DTEND;VALUE=DATE:20250929
DTSTAMP:20250605T195303Z
URL:https://www.cndf.qc.ca/events/competition-cross-country-cndf-2025/
SUMMARY:Compétition #2 au Campus Notre-Dame-de-Foy
DESCRIPTION:Cette deuxième compétition de cross-country collégial du RSE
 Q aura lieu au CNDF.
ATTACH;FMTTYPE=image/jpeg:https://www.cndf.qc.ca/wp-content/uploads/2025/0
 6/cross-country-1-scaled.jpeg
CATEGORIES:Cross-country,Sports
LOCATION:Campus Notre-Dame-de-Foy\, 5000\, rue Clément-Lockquell\, Saint-A
 ugustin-de-Desmaures\, Québec\, G3A 1B3\, Québec\, Canada
X-APPLE-STRUCTURED-LOCATION;VALUE=URI;X-ADDRESS=5000\, rue Clément-Lockque
 ll\, Saint-Augustin-de-Desmaures\, Québec\, G3A 1B3\, Québec\, Canada;X-
 APPLE-RADIUS=100;X-TITLE=Campus Notre-Dame-de-Foy:geo:0,0
END:VEVENT
END:VCALENDAR