BEGIN:VCALENDAR
VERSION:2.0
PRODID:-//wp-events-plugin.com//7.2.3.1//EN
TZID:America/New_York
X-WR-TIMEZONE:America/New_York
BEGIN:VEVENT
UID:285@cndf.qc.ca
DTSTART;VALUE=DATE:20240929
DTEND;VALUE=DATE:20240930
DTSTAMP:20240829T151124Z
URL:https://www.cndf.qc.ca/events/competition-cross-country-cndf-septembre
 -2024/
SUMMARY:Compétition #2 au CNDF
DESCRIPTION:Cette deuxième compétition de cross-country collégial du RSE
 Q aura lieu au Campus Notre-Dame-de-Foy.\n\nLe départ des athlètes fémi
 nines collégiales sera donné à 12 h\, alors que cela débutera à 13 h 
 pour les athlètes masculins collégiaux.\n\nMais avant cela aura lieu une
  course de catégorie "ouverte" : que vous soyez un athlète aguerri ou un
  passionné de course à la recherche d'un nouveau défi\, il vous sera po
 ssible de vous dépasser sur un parcours de 5 km. Une invitation toute sp
 éciale est lancée aux coureurs et coureuses du RSEQ qui ne sont plus au 
 collégial : serez-vous encore en mesure de performer "comme dans le temps
 "? Le départ de cette course aura lieu à 11 h. Les trois premières posi
 tions de la classe ouverte chez les catégories hommes et chez les femmes 
 recevront des bourses totalisant 1500 $.\n\nCet événement est organisé
  en partenariat avec la Fondation du Campus Notre-Dame-de-Foy. Les profit
 s de la course seront intégralement versés au programme de sport d'endu
 rance du Campus Notre-Dame-de-Foy\, soutenant ainsi le développement des 
 jeunes talents sportifs.\n\nInscrivez-vous à la compétition en classe "
 ouverte" via ce lien.
ATTACH;FMTTYPE=image/jpeg:https://www.cndf.qc.ca/wp-content/uploads/2021/0
 8/cross-country-cndf.jpg
CATEGORIES:Cross-country,Sports
LOCATION:Campus Notre-Dame-de-Foy\, 5000\, rue Clément-Lockquell\, Saint-A
 ugustin-de-Desmaures\, Québec\, G3A 1B3\, Québec\, Canada
X-APPLE-STRUCTURED-LOCATION;VALUE=URI;X-ADDRESS=5000\, rue Clément-Lockque
 ll\, Saint-Augustin-de-Desmaures\, Québec\, G3A 1B3\, Québec\, Canada;X-
 APPLE-RADIUS=100;X-TITLE=Campus Notre-Dame-de-Foy:geo:0,0
END:VEVENT
END:VCALENDAR