BEGIN:VCALENDAR
VERSION:2.0
PRODID:-//wp-events-plugin.com//7.2.3.1//EN
TZID:America/New_York
X-WR-TIMEZONE:America/New_York
BEGIN:VEVENT
UID:274@cndf.qc.ca
DTSTART;TZID=America/New_York:20250215T000000
DTEND;TZID=America/New_York:20250215T000000
DTSTAMP:20240610T191906Z
URL:https://www.cndf.qc.ca/events/competition-natation-fevrier-2025/
SUMMARY:Compétition #3 à Sherbrooke
DESCRIPTION:\n\n\n\nLa troisième et dernière compétition de la saison r
 égulière du Notre-Dame Natation se déroulera à Sherbrooke.\n\n\n\n
ATTACH;FMTTYPE=image/jpeg:https://www.cndf.qc.ca/wp-content/uploads/2023/0
 5/equipe_natation_cndf.jpg
CATEGORIES:Natation,Sports
LOCATION:Université de Sherbrooke\, 2500\, boul. de l'Université\, Sherbr
 ooke\, Québec\, J1K 2R1\, Canada
X-APPLE-STRUCTURED-LOCATION;VALUE=URI;X-ADDRESS=2500\, boul. de l'Universit
 é\, Sherbrooke\, Québec\, J1K 2R1\, Canada;X-APPLE-RADIUS=100;X-TITLE=Un
 iversité de Sherbrooke:geo:0,0
END:VEVENT
BEGIN:VTIMEZONE
TZID:America/New_York
X-LIC-LOCATION:America/New_York
BEGIN:STANDARD
DTSTART:20241103T010000
TZOFFSETFROM:-0400
TZOFFSETTO:-0500
TZNAME:EST
END:STANDARD
END:VTIMEZONE
END:VCALENDAR