BEGIN:VCALENDAR
VERSION:2.0
PRODID:-//wp-events-plugin.com//7.2.3.1//EN
TZID:America/New_York
X-WR-TIMEZONE:America/New_York
BEGIN:VEVENT
UID:273@cndf.qc.ca
DTSTART;TZID=America/New_York:20241123T000000
DTEND;TZID=America/New_York:20241123T000000
DTSTAMP:20240610T191719Z
URL:https://www.cndf.qc.ca/events/competition-natation-novembre-2024/
SUMMARY:Compétition #2 à Shawinigan
DESCRIPTION:La deuxième compétition du Notre-Dame Natation se déroulera 
 à Shawinigan.
ATTACH;FMTTYPE=image/jpeg:https://www.cndf.qc.ca/wp-content/uploads/2023/0
 5/equipe_natation_cndf.jpg
CATEGORIES:Natation,Sports
LOCATION:Cégep de Shawinigan\, 2263 Av. du Collège\, Shawinigan\, Québec
 \, G9N 6V8\, Canada
X-APPLE-STRUCTURED-LOCATION;VALUE=URI;X-ADDRESS=2263 Av. du Collège\, Shaw
 inigan\, Québec\, G9N 6V8\, Canada;X-APPLE-RADIUS=100;X-TITLE=Cégep de S
 hawinigan:geo:0,0
END:VEVENT
BEGIN:VTIMEZONE
TZID:America/New_York
X-LIC-LOCATION:America/New_York
BEGIN:STANDARD
DTSTART:20241103T010000
TZOFFSETFROM:-0400
TZOFFSETTO:-0500
TZNAME:EST
END:STANDARD
END:VTIMEZONE
END:VCALENDAR