BEGIN:VCALENDAR
VERSION:2.0
PRODID:-//wp-events-plugin.com//7.2.3.1//EN
TZID:America/New_York
X-WR-TIMEZONE:America/New_York
BEGIN:VEVENT
UID:362@cndf.qc.ca
DTSTART;TZID=America/New_York;VALUE=DATE:20251122
DTEND;TZID=America/New_York;VALUE=DATE:20251123
DTSTAMP:20250605T200446Z
URL:https://www.cndf.qc.ca/events/competition-natation-sherbrooke-2025/
SUMMARY:Compétition #2 au Cégep de Sherbrooke
DESCRIPTION:La deuxième compétition de la saison du Notre-Dame Natation s
 e déroulera au Cégep de Sherbrooke.
ATTACH;FMTTYPE=image/jpeg:https://www.cndf.qc.ca/wp-content/uploads/2025/0
 6/natation-1-scaled.jpg
CATEGORIES:Natation,Sports
END:VEVENT
BEGIN:VTIMEZONE
TZID:America/New_York
X-LIC-LOCATION:America/New_York
BEGIN:STANDARD
DTSTART:20251102T010000
TZOFFSETFROM:-0400
TZOFFSETTO:-0500
TZNAME:EST
END:STANDARD
END:VTIMEZONE
END:VCALENDAR