BEGIN:VCALENDAR
VERSION:2.0
PRODID:-//wp-events-plugin.com//7.2.3.1//EN
TZID:America/New_York
X-WR-TIMEZONE:America/New_York
BEGIN:VEVENT
UID:302@cndf.qc.ca
DTSTART;TZID=America/New_York;VALUE=DATE:20241027
DTEND;TZID=America/New_York;VALUE=DATE:20241028
DTSTAMP:20240920T143939Z
URL:https://www.cndf.qc.ca/events/competition-volleyball-collegial-charlev
 oix-octobre-2024/
SUMMARY:Compétition #1 à Charlevoix
DESCRIPTION:Première compétition de volleyball féminin de la ligue coll
 égiale du RSEQ.\n\n&nbsp\;
ATTACH;FMTTYPE=image/jpeg:https://www.cndf.qc.ca/wp-content/uploads/2021/0
 9/calendrier-volleyball-feminin-scaled.jpg
CATEGORIES:Sports,Volleyball
LOCATION:Centre d'études Collégiales en Charlevoix\, 855\, rue Richelieu\
 , Secteur Pointe-au-Pic\, La Malbaie\, G5A 2X7\, Canada
X-APPLE-STRUCTURED-LOCATION;VALUE=URI;X-ADDRESS=855\, rue Richelieu\, Secte
 ur Pointe-au-Pic\, La Malbaie\, G5A 2X7\, Canada;X-APPLE-RADIUS=100;X-TITL
 E=Centre d'études Collégiales en Charlevoix:geo:0,0
END:VEVENT
BEGIN:VTIMEZONE
TZID:America/New_York
X-LIC-LOCATION:America/New_York
BEGIN:DAYLIGHT
DTSTART:20240310T030000
TZOFFSETFROM:-0500
TZOFFSETTO:-0400
TZNAME:EDT
END:DAYLIGHT
END:VTIMEZONE
END:VCALENDAR