BEGIN:VCALENDAR
VERSION:2.0
PRODID:-//wp-events-plugin.com//7.2.3.1//EN
TZID:America/New_York
X-WR-TIMEZONE:America/New_York
BEGIN:VEVENT
UID:304@cndf.qc.ca
DTSTART;TZID=America/New_York;VALUE=DATE:20250202
DTEND;TZID=America/New_York;VALUE=DATE:20250203
DTSTAMP:20240920T144527Z
URL:https://www.cndf.qc.ca/events/competition-volleyball-collegial-fevrier
 -2025/
SUMMARY:Compétition #3 au Cégep de Beauce-Appalaches
DESCRIPTION:Troisième compétition de volleyball féminin de la ligue coll
 égiale du RSEQ au Cégep de Beauce-Appalaches.\n\n&nbsp\;
ATTACH;FMTTYPE=image/jpeg:https://www.cndf.qc.ca/wp-content/uploads/2021/0
 9/calendrier-volleyball-feminin-scaled.jpg
CATEGORIES:Sports,Volleyball
LOCATION:Cégep Beauce-Appalaches\, 11625\, 10e avenue\, Saint-Georges\, Qu
 ébec\, G5Y 1B9\, Québec\, Canada
X-APPLE-STRUCTURED-LOCATION;VALUE=URI;X-ADDRESS=11625\, 10e avenue\, Saint-
 Georges\, Québec\, G5Y 1B9\, Québec\, Canada;X-APPLE-RADIUS=100;X-TITLE=
 Cégep Beauce-Appalaches:geo:0,0
END:VEVENT
BEGIN:VTIMEZONE
TZID:America/New_York
X-LIC-LOCATION:America/New_York
BEGIN:STANDARD
DTSTART:20241103T010000
TZOFFSETFROM:-0400
TZOFFSETTO:-0500
TZNAME:EST
END:STANDARD
END:VTIMEZONE
END:VCALENDAR