BEGIN:VCALENDAR
VERSION:2.0
PRODID:-//wp-events-plugin.com//7.2.3.1//EN
TZID:America/New_York
X-WR-TIMEZONE:America/New_York
BEGIN:VEVENT
UID:61@cndf.qc.ca
DTSTART;TZID=America/New_York:20211220T183000
DTEND;TZID=America/New_York:20211220T183000
DTSTAMP:20211122T221028Z
URL:https://www.cndf.qc.ca/events/concert-chant-pop-et-jazz-solo-et-lab-in
 strumental-decembre-2021/
SUMMARY:Concert Chant pop et jazz solo et Lab instrumental
DESCRIPTION:Concert Chant pop et jazz solo et Lab instrumental sous la dire
 ction de Julie Cimon Racine\, Karine Lévesque et Laura Godin\n\nEntrée: 
 5 $.
ATTACH;FMTTYPE=image/jpeg:https://www.cndf.qc.ca/wp-content/uploads/2021/1
 1/calendrier_spectacles_musique.jpg
CATEGORIES:Musique,Spectacles
LOCATION:Salle de concert La Chapelle du pavillon De-La-Salle\, 5010\, rue 
 Clément-Lockquell\, Saint-Augustin-de-Desmaures\, Québec\, G3A 1B3\, Qu
 ébec\, Canada
X-APPLE-STRUCTURED-LOCATION;VALUE=URI;X-ADDRESS=5010\, rue Clément-Lockque
 ll\, Saint-Augustin-de-Desmaures\, Québec\, G3A 1B3\, Québec\, Canada;X-
 APPLE-RADIUS=100;X-TITLE=Salle de concert La Chapelle du pavillon De-La-Sa
 lle:geo:0,0
END:VEVENT
BEGIN:VTIMEZONE
TZID:America/New_York
X-LIC-LOCATION:America/New_York
BEGIN:STANDARD
DTSTART:20211107T010000
TZOFFSETFROM:-0400
TZOFFSETTO:-0500
TZNAME:EST
END:STANDARD
END:VTIMEZONE
END:VCALENDAR