BEGIN:VCALENDAR
VERSION:2.0
PRODID:-//wp-events-plugin.com//7.2.3.1//EN
TZID:America/New_York
X-WR-TIMEZONE:America/New_York
BEGIN:VEVENT
UID:297@cndf.qc.ca
DTSTART;TZID=America/New_York:20250129T123000
DTEND;TZID=America/New_York:20250129T133000
DTSTAMP:20240822T133414Z
URL:https://www.cndf.qc.ca/events/concert-des-professeurs-du-departement-d
 e-musique-janvier-2024/
SUMMARY:Concert des professeurs du département de Musique
DESCRIPTION:Venez assister au concert des professeurs de Musique du Campus 
 Notre-Dame-de-Foy à la salle La Chapelle du pavillon De-La-Salle.
ATTACH;FMTTYPE=image/jpeg:https://www.cndf.qc.ca/wp-content/uploads/2021/1
 1/calendrier_spectacles_musique.jpg
CATEGORIES:Musique,Spectacles
LOCATION:Salle de concert La Chapelle du pavillon De-La-Salle\, 5010\, rue 
 Clément-Lockquell\, Saint-Augustin-de-Desmaures\, Québec\, G3A 1B3\, Qu
 ébec\, Canada
X-APPLE-STRUCTURED-LOCATION;VALUE=URI;X-ADDRESS=5010\, rue Clément-Lockque
 ll\, Saint-Augustin-de-Desmaures\, Québec\, G3A 1B3\, Québec\, Canada;X-
 APPLE-RADIUS=100;X-TITLE=Salle de concert La Chapelle du pavillon De-La-Sa
 lle:geo:0,0
END:VEVENT
BEGIN:VTIMEZONE
TZID:America/New_York
X-LIC-LOCATION:America/New_York
BEGIN:STANDARD
DTSTART:20241103T010000
TZOFFSETFROM:-0400
TZOFFSETTO:-0500
TZNAME:EST
END:STANDARD
END:VTIMEZONE
END:VCALENDAR