BEGIN:VCALENDAR
VERSION:2.0
PRODID:-//wp-events-plugin.com//7.2.3.1//EN
TZID:America/New_York
X-WR-TIMEZONE:America/New_York
BEGIN:VEVENT
UID:58@cndf.qc.ca
DTSTART;TZID=America/New_York:20211213T190000
DTEND;TZID=America/New_York:20211213T190000
DTSTAMP:20211122T215536Z
URL:https://www.cndf.qc.ca/events/concert-ensembles-classiques-decembre-20
 21/
SUMMARY:Concert Ensembles classiques
DESCRIPTION:Concert Piano classique sous la direction de Lise Lavoie (guita
 re)\, Nathalie Croff (flûte)\, Michelle Fountaine (chant) et Caroline Gou
 let (violoncelle)\n\nEntrée gratuite.
ATTACH;FMTTYPE=image/jpeg:https://www.cndf.qc.ca/wp-content/uploads/2021/1
 1/calendrier_spectacles_musique.jpg
CATEGORIES:Musique,Spectacles
LOCATION:Salle de concert La Chapelle du pavillon De-La-Salle\, 5010\, rue 
 Clément-Lockquell\, Saint-Augustin-de-Desmaures\, Québec\, G3A 1B3\, Qu
 ébec\, Canada
X-APPLE-STRUCTURED-LOCATION;VALUE=URI;X-ADDRESS=5010\, rue Clément-Lockque
 ll\, Saint-Augustin-de-Desmaures\, Québec\, G3A 1B3\, Québec\, Canada;X-
 APPLE-RADIUS=100;X-TITLE=Salle de concert La Chapelle du pavillon De-La-Sa
 lle:geo:0,0
END:VEVENT
BEGIN:VTIMEZONE
TZID:America/New_York
X-LIC-LOCATION:America/New_York
BEGIN:STANDARD
DTSTART:20211107T010000
TZOFFSETFROM:-0400
TZOFFSETTO:-0500
TZNAME:EST
END:STANDARD
END:VTIMEZONE
END:VCALENDAR