BEGIN:VCALENDAR
VERSION:2.0
PRODID:-//wp-events-plugin.com//7.2.3.1//EN
TZID:America/New_York
X-WR-TIMEZONE:America/New_York
BEGIN:VEVENT
UID:11@cndf.qc.ca
DTSTART:20211016T050000Z
DTEND:20211016T050000Z
DTSTAMP:20210903T003803Z
URL:https://www.cndf.qc.ca/events/cross-country-championnat-de-conference/
SUMMARY:Championnat de conférence - Baie-Comeau
DESCRIPTION:Pour plus de détails\, consultez http://www.rseq.ca/sports/cro
 ss-country/collegial/nord-est/resultats/
ATTACH;FMTTYPE=image/jpeg:https://www.cndf.qc.ca/wp-content/uploads/2021/0
 8/cross-country-cndf.jpg
CATEGORIES:Cross-country,Sports
LOCATION:Cégep de Baie-Comeau\, 537\, boulevard Blanche\, Baie-Comeau\, Qu
 ébec\, G5C 2B2\, Canada
X-APPLE-STRUCTURED-LOCATION;VALUE=URI;X-ADDRESS=537\, boulevard Blanche\, B
 aie-Comeau\, Québec\, G5C 2B2\, Canada;X-APPLE-RADIUS=100;X-TITLE=Cégep 
 de Baie-Comeau:geo:0,0
END:VEVENT
END:VCALENDAR