BEGIN:VCALENDAR
VERSION:2.0
PRODID:-//wp-events-plugin.com//7.2.3.1//EN
TZID:America/New_York
X-WR-TIMEZONE:America/New_York
BEGIN:VEVENT
UID:161@cndf.qc.ca
DTSTART;TZID=America/New_York:20231028T120000
DTEND;TZID=America/New_York:20231028T120000
DTSTAMP:20231010T154057Z
URL:https://www.cndf.qc.ca/events/cross-country-championnat-provincial-col
 legial-octobre-2023/
SUMMARY:Championnat provincial
DESCRIPTION:Ce championnat provincial de cross-country collégial aura lieu
  à Rawdon.\n\nNous vous rappelons que vous avez jusqu’au 12 novembre po
 ur participer à la Loto Notre-Dame\, un moitié-moitié cumulatif. Procur
 ez-vous vos billets ici pour encourager les équipes sportives du Campus e
 t faire augmenter le montant de la cagnotte!
ATTACH;FMTTYPE=image/jpeg:https://www.cndf.qc.ca/wp-content/uploads/2021/0
 8/cross-country-cndf.jpg
CATEGORIES:Cross-country
END:VEVENT
BEGIN:VTIMEZONE
TZID:America/New_York
X-LIC-LOCATION:America/New_York
BEGIN:DAYLIGHT
DTSTART:20230312T030000
TZOFFSETFROM:-0500
TZOFFSETTO:-0400
TZNAME:EDT
END:DAYLIGHT
END:VTIMEZONE
END:VCALENDAR