BEGIN:VCALENDAR
VERSION:2.0
PRODID:-//wp-events-plugin.com//7.2.3.1//EN
TZID:America/New_York
X-WR-TIMEZONE:America/New_York
BEGIN:VEVENT
UID:156@cndf.qc.ca
DTSTART;TZID=America/New_York:20230503T121500
DTEND;TZID=America/New_York:20230503T141500
DTSTAMP:20230330T144336Z
URL:https://www.cndf.qc.ca/events/defi-5-km-du-campus-une-presentation-de-
 la-fondation-du-cndf/
SUMMARY:Défi 5 km du Campus\, une présentation de la Fondation du CNDF
DESCRIPTION:Le Défi 5 km présenté par la Fondation du CNDF est une cours
 e extérieure ouverte aux étudiants\, aux employés et aux anciens. Vous 
 avez le choix de faire le 5 km à la course ou le 3 km à la marche. Des p
 rix de participation d'une valeur de 1 500$ seront remis. De plus\, La Fon
 dation du CNDF remettra des bourses aux meilleurs temps\, tant chez les ho
 mmes que les femmes. Aucune inscription requise\, vous n'avez qu'à vous p
 résenter la journée même pour 12h15.\n\nPour plus d'information\, vous 
 pouvez écrire un courriel à Daniel Blouin.
ATTACH;FMTTYPE=image/jpeg:https://www.cndf.qc.ca/wp-content/uploads/2022/0
 6/entete-calendrier-defi-5km-2023-1.png
CATEGORIES:Événements majeurs du CNDF,Sports
END:VEVENT
BEGIN:VTIMEZONE
TZID:America/New_York
X-LIC-LOCATION:America/New_York
BEGIN:DAYLIGHT
DTSTART:20230312T030000
TZOFFSETFROM:-0500
TZOFFSETTO:-0400
TZNAME:EDT
END:DAYLIGHT
END:VTIMEZONE
END:VCALENDAR