BEGIN:VCALENDAR
VERSION:2.0
PRODID:-//wp-events-plugin.com//7.2.3.1//EN
TZID:America/New_York
X-WR-TIMEZONE:America/New_York
BEGIN:VEVENT
UID:198@cndf.qc.ca
DTSTART;TZID=America/New_York:20240501T121500
DTEND;TZID=America/New_York:20240501T141500
DTSTAMP:20230911T184403Z
URL:https://www.cndf.qc.ca/events/defi-5km-fondation-cndf-2024/
SUMMARY:Défi 5 km\, une présentation de la Fondation du CNDF
DESCRIPTION:Le Défi 5 km présenté par la Fondation du CNDF est une cours
 e extérieure ouverte aux étudiants\, aux employés et aux anciens. Vous 
 avez le choix de faire le 5 km à la course ou le 3 km à la marche. Des p
 rix de participation d'une valeur de 1 500$ seront remis. De plus\, La Fon
 dation remettra des bourses aux meilleurs temps\, tant chez les hommes que
  les femmes. Aucune inscription requise\, vous n'avez qu'à vous présente
 r la journée même pour 12h15.\n\nPour plus d'information\, vous pouvez 
 écrire un courriel à Daniel Blouin.
ATTACH;FMTTYPE=image/jpeg:https://www.cndf.qc.ca/wp-content/uploads/2023/0
 8/image-calendrier-evenements-cndf.jpg
CATEGORIES:Événements majeurs du CNDF,Sports
END:VEVENT
BEGIN:VTIMEZONE
TZID:America/New_York
X-LIC-LOCATION:America/New_York
BEGIN:DAYLIGHT
DTSTART:20240310T030000
TZOFFSETFROM:-0500
TZOFFSETTO:-0400
TZNAME:EDT
END:DAYLIGHT
END:VTIMEZONE
END:VCALENDAR