BEGIN:VCALENDAR
VERSION:2.0
PRODID:-//wp-events-plugin.com//7.2.3.1//EN
TZID:America/New_York
X-WR-TIMEZONE:America/New_York
BEGIN:VEVENT
UID:52@cndf.qc.ca
DTSTART:20211024T143000Z
DTEND:20211024T160000Z
DTSTAMP:20211022T164759Z
URL:https://www.cndf.qc.ca/events/demi-finale-de-la-ligue-nord-est-rugby-f
 eminin-2021/
SUMMARY:Demi-finale de la ligue nord-est
DESCRIPTION:L'équipe de rugby féminin du CNDF accueillera le Cégep de Tr
 ois-Rivières à 9h30 dimanche.
ATTACH;FMTTYPE=image/jpeg:https://www.cndf.qc.ca/wp-content/uploads/2021/0
 9/calendrier-rugby-feminin-e1630630425995-2.jpg
CATEGORIES:Rugby,Rugby féminin à 12,Sports
LOCATION:Campus Notre-Dame-de-Foy\, 5000\, rue Clément-Lockquell\, Saint-A
 ugustin-de-Desmaures\, Québec\, G3A 1B3\, Québec\, Canada
X-APPLE-STRUCTURED-LOCATION;VALUE=URI;X-ADDRESS=5000\, rue Clément-Lockque
 ll\, Saint-Augustin-de-Desmaures\, Québec\, G3A 1B3\, Québec\, Canada;X-
 APPLE-RADIUS=100;X-TITLE=Campus Notre-Dame-de-Foy:geo:0,0
END:VEVENT
END:VCALENDAR