BEGIN:VCALENDAR
VERSION:2.0
PRODID:-//wp-events-plugin.com//7.2.3.1//EN
TZID:America/New_York
X-WR-TIMEZONE:America/New_York
BEGIN:VEVENT
UID:148@cndf.qc.ca
DTSTART;TZID=America/New_York:20221112T190000
DTEND;TZID=America/New_York:20221112T200000
DTSTAMP:20221108T205248Z
URL:https://www.cndf.qc.ca/events/demi-finale-provinciale-notre-dame-a-len
 noxville/
SUMMARY:Demi-finale provinciale – Notre-Dame à Lennoxville
DESCRIPTION:
ATTACH;FMTTYPE=image/jpeg:https://www.cndf.qc.ca/wp-content/uploads/2025/0
 8/calendrier_lennoxville_vs_cndf-1320x564-1.png
CATEGORIES:Football,Sports
END:VEVENT
BEGIN:VTIMEZONE
TZID:America/New_York
X-LIC-LOCATION:America/New_York
BEGIN:STANDARD
DTSTART:20221106T010000
TZOFFSETFROM:-0400
TZOFFSETTO:-0500
TZNAME:EST
END:STANDARD
END:VTIMEZONE
END:VCALENDAR